BEGIN:VCALENDAR
VERSION:2.0
PRODID:-//Sound Mind Sound Body Academy - ECPv6.15.12.2//NONSGML v1.0//EN
CALSCALE:GREGORIAN
METHOD:PUBLISH
X-WR-CALNAME:Sound Mind Sound Body Academy
X-ORIGINAL-URL:https://www.smsbacademy.com
X-WR-CALDESC:Events for Sound Mind Sound Body Academy
REFRESH-INTERVAL;VALUE=DURATION:PT1H
X-Robots-Tag:noindex
X-PUBLISHED-TTL:PT1H
BEGIN:VTIMEZONE
TZID:America/Detroit
BEGIN:DAYLIGHT
TZOFFSETFROM:-0500
TZOFFSETTO:-0400
TZNAME:EDT
DTSTART:20240310T070000
END:DAYLIGHT
BEGIN:STANDARD
TZOFFSETFROM:-0400
TZOFFSETTO:-0500
TZNAME:EST
DTSTART:20241103T060000
END:STANDARD
BEGIN:DAYLIGHT
TZOFFSETFROM:-0500
TZOFFSETTO:-0400
TZNAME:EDT
DTSTART:20250309T070000
END:DAYLIGHT
BEGIN:STANDARD
TZOFFSETFROM:-0400
TZOFFSETTO:-0500
TZNAME:EST
DTSTART:20251102T060000
END:STANDARD
BEGIN:DAYLIGHT
TZOFFSETFROM:-0500
TZOFFSETTO:-0400
TZNAME:EDT
DTSTART:20260308T070000
END:DAYLIGHT
BEGIN:STANDARD
TZOFFSETFROM:-0400
TZOFFSETTO:-0500
TZNAME:EST
DTSTART:20261101T060000
END:STANDARD
BEGIN:DAYLIGHT
TZOFFSETFROM:-0500
TZOFFSETTO:-0400
TZNAME:EDT
DTSTART:20270314T070000
END:DAYLIGHT
BEGIN:STANDARD
TZOFFSETFROM:-0400
TZOFFSETTO:-0500
TZNAME:EST
DTSTART:20271107T060000
END:STANDARD
END:VTIMEZONE
BEGIN:VEVENT
DTSTART;VALUE=DATE:20251201
DTEND;VALUE=DATE:20260110
DTSTAMP:20260424T115552
CREATED:20251214T171130Z
LAST-MODIFIED:20251214T171509Z
UID:48104-1764547200-1768003199@www.smsbacademy.com
SUMMARY:Vote for SMSB: Best of Detroit Hour Magazine
DESCRIPTION:
URL:https://www.smsbacademy.com/event/vote-for-smsb-best-of-detroit-hour-magazine/
CATEGORIES:Special Events
ATTACH;FMTTYPE=image/jpeg:https://www.smsbacademy.com/wp-content/uploads/2025/12/121425Best-of-Detroit-in-HOUR-Magazine-1.jpg
END:VEVENT
BEGIN:VEVENT
DTSTART;TZID=America/Detroit:20251130T140000
DTEND;TZID=America/Detroit:20251130T180000
DTSTAMP:20260424T115552
CREATED:20251130T174341Z
LAST-MODIFIED:20251203T174527Z
UID:48029-1764511200-1764525600@www.smsbacademy.com
SUMMARY:Lineman Showcase
DESCRIPTION:
URL:https://www.smsbacademy.com/event/lineman-showcase-2/
CATEGORIES:Special Events
ATTACH;FMTTYPE=image/jpeg:https://www.smsbacademy.com/wp-content/uploads/2025/12/LINEMAN-SHOWCASE-1.jpg
END:VEVENT
BEGIN:VEVENT
DTSTART;TZID=America/Detroit:20251119T180000
DTEND;TZID=America/Detroit:20251119T210000
DTSTAMP:20260424T115552
CREATED:20251119T220535Z
LAST-MODIFIED:20251203T221438Z
UID:48053-1763575200-1763586000@www.smsbacademy.com
SUMMARY:Ring Ceremony
DESCRIPTION:
URL:https://www.smsbacademy.com/event/ring-ceremony/
CATEGORIES:Special Events
ATTACH;FMTTYPE=image/jpeg:https://www.smsbacademy.com/wp-content/uploads/2025/12/2025-FOOTBALL-CHMPIONSHIP-RING-CEREMONY-1.jpg
END:VEVENT
BEGIN:VEVENT
DTSTART;TZID=America/Detroit:20251119T180000
DTEND;TZID=America/Detroit:20251119T200000
DTSTAMP:20260424T115552
CREATED:20251119T193720Z
LAST-MODIFIED:20251203T193905Z
UID:48044-1763575200-1763582400@www.smsbacademy.com
SUMMARY:FAFSA Workshop
DESCRIPTION:
URL:https://www.smsbacademy.com/event/fafsa-workshop-2/
CATEGORIES:Special Events
ATTACH;FMTTYPE=image/jpeg:https://www.smsbacademy.com/wp-content/uploads/2025/12/FAFSA-WORKSHOP-HARPER-WOODS-HIGH-SCHOOL-1.jpg
END:VEVENT
BEGIN:VEVENT
DTSTART;TZID=America/Detroit:20251116T130000
DTEND;TZID=America/Detroit:20251116T160000
DTSTAMP:20260424T115552
CREATED:20251003T010406Z
LAST-MODIFIED:20251007T010613Z
UID:47929-1763298000-1763308800@www.smsbacademy.com
SUMMARY:BIG Turkey Giveaway
DESCRIPTION:
URL:https://www.smsbacademy.com/event/big-turkey-giveaway/
CATEGORIES:Special Events
ATTACH;FMTTYPE=image/jpeg:https://www.smsbacademy.com/wp-content/uploads/2025/10/111625_Turkey-drive.jpg
END:VEVENT
BEGIN:VEVENT
DTSTART;VALUE=DATE:20251108
DTEND;VALUE=DATE:20251110
DTSTAMP:20260424T115552
CREATED:20251002T010147Z
LAST-MODIFIED:20251007T010253Z
UID:47926-1762560000-1762732799@www.smsbacademy.com
SUMMARY:State Championship
DESCRIPTION:
URL:https://www.smsbacademy.com/event/state-championship/
CATEGORIES:Special Events
ATTACH;FMTTYPE=image/jpeg:https://www.smsbacademy.com/wp-content/uploads/2025/10/1108-09_State-Championship.jpg
END:VEVENT
BEGIN:VEVENT
DTSTART;TZID=America/Detroit:20251105T100000
DTEND;TZID=America/Detroit:20251105T140000
DTSTAMP:20260424T115552
CREATED:20251105T174901Z
LAST-MODIFIED:20251203T175133Z
UID:48034-1762336800-1762351200@www.smsbacademy.com
SUMMARY:Laced for Success
DESCRIPTION:
URL:https://www.smsbacademy.com/event/laced-for-success/
CATEGORIES:Special Events
ATTACH;FMTTYPE=image/jpeg:https://www.smsbacademy.com/wp-content/uploads/2025/12/LACED-FOR-SUCCESS.jpg
END:VEVENT
BEGIN:VEVENT
DTSTART;VALUE=DATE:20251101
DTEND;VALUE=DATE:20251103
DTSTAMP:20260424T115552
CREATED:20250930T005908Z
LAST-MODIFIED:20251007T010026Z
UID:47923-1761955200-1762127999@www.smsbacademy.com
SUMMARY:City Championship
DESCRIPTION:
URL:https://www.smsbacademy.com/event/city-championship/
CATEGORIES:Special Events
ATTACH;FMTTYPE=image/jpeg:https://www.smsbacademy.com/wp-content/uploads/2025/09/1101-0225_City-Championship.jpg
END:VEVENT
BEGIN:VEVENT
DTSTART;VALUE=DATE:20251026
DTEND;VALUE=DATE:20251027
DTSTAMP:20260424T115552
CREATED:20250929T005639Z
LAST-MODIFIED:20251007T005752Z
UID:47920-1761436800-1761523199@www.smsbacademy.com
SUMMARY:Cheer Competition
DESCRIPTION:
URL:https://www.smsbacademy.com/event/cheer-competition/
CATEGORIES:Special Events
ATTACH;FMTTYPE=image/jpeg:https://www.smsbacademy.com/wp-content/uploads/2025/09/102625CHEER-COMP-2026.jpg
END:VEVENT
BEGIN:VEVENT
DTSTART;VALUE=DATE:20251025
DTEND;VALUE=DATE:20251026
DTSTAMP:20260424T115552
CREATED:20250928T005446Z
LAST-MODIFIED:20251007T005553Z
UID:47917-1761350400-1761436799@www.smsbacademy.com
SUMMARY:SMSB Semifinals
DESCRIPTION:
URL:https://www.smsbacademy.com/event/smsb-semifinals/
CATEGORIES:Special Events
ATTACH;FMTTYPE=image/jpeg:https://www.smsbacademy.com/wp-content/uploads/2025/09/102525_Semi-Finals.jpg
END:VEVENT
BEGIN:VEVENT
DTSTART;TZID=America/Detroit:20251021T183000
DTEND;TZID=America/Detroit:20251021T203000
DTSTAMP:20260424T115552
CREATED:20251021T165310Z
LAST-MODIFIED:20251203T175437Z
UID:48039-1761071400-1761078600@www.smsbacademy.com
SUMMARY:FAFSA Workshop
DESCRIPTION:
URL:https://www.smsbacademy.com/event/fafsa-workshop/
CATEGORIES:Special Events
ATTACH;FMTTYPE=image/jpeg:https://www.smsbacademy.com/wp-content/uploads/2025/12/FAFSA-WORKSHOP-KING-HIGH-SCHOOL-1.jpg
END:VEVENT
BEGIN:VEVENT
DTSTART;TZID=America/Detroit:20251021T150000
DTEND;TZID=America/Detroit:20251021T170000
DTSTAMP:20260424T115552
CREATED:20250927T005207Z
LAST-MODIFIED:20251007T005356Z
UID:47914-1761058800-1761066000@www.smsbacademy.com
SUMMARY:Trunk or Treat
DESCRIPTION:
URL:https://www.smsbacademy.com/event/trunk-or-treat/
CATEGORIES:Special Events
ATTACH;FMTTYPE=image/jpeg:https://www.smsbacademy.com/wp-content/uploads/2025/09/102125_Halloween-Flyer.jpg
END:VEVENT
BEGIN:VEVENT
DTSTART;TZID=America/Detroit:20251018T100000
DTEND;TZID=America/Detroit:20251018T130000
DTSTAMP:20260424T115552
CREATED:20250907T152737Z
LAST-MODIFIED:20250907T152737Z
UID:47869-1760781600-1760792400@www.smsbacademy.com
SUMMARY:Free Community Health Fair
DESCRIPTION:
URL:https://www.smsbacademy.com/event/free-community-health-fair-oct18th2025/
CATEGORIES:Special Events
ATTACH;FMTTYPE=image/jpeg:https://www.smsbacademy.com/wp-content/uploads/2025/09/HealthFairOct182025.jpg
END:VEVENT
BEGIN:VEVENT
DTSTART;VALUE=DATE:20251018
DTEND;VALUE=DATE:20251019
DTSTAMP:20260424T115552
CREATED:20250926T004946Z
LAST-MODIFIED:20251007T005118Z
UID:47911-1760745600-1760831999@www.smsbacademy.com
SUMMARY:SMSB Quarterfinals
DESCRIPTION:
URL:https://www.smsbacademy.com/event/smsb-quarterfinals/
CATEGORIES:Special Events
ATTACH;FMTTYPE=image/jpeg:https://www.smsbacademy.com/wp-content/uploads/2025/09/101825_Quarter-Finals.jpg
END:VEVENT
BEGIN:VEVENT
DTSTART;TZID=America/Detroit:20250831T130000
DTEND;TZID=America/Detroit:20250831T160000
DTSTAMP:20260424T115552
CREATED:20250820T100949Z
LAST-MODIFIED:20250820T101241Z
UID:47816-1756645200-1756656000@www.smsbacademy.com
SUMMARY:Back Pack Giveaway
DESCRIPTION:
URL:https://www.smsbacademy.com/event/back-pack-giveaway/
CATEGORIES:Special Events
ATTACH;FMTTYPE=image/png:https://www.smsbacademy.com/wp-content/uploads/2025/08/083125.png
END:VEVENT
BEGIN:VEVENT
DTSTART;TZID=America/Detroit:20250816T080000
DTEND;TZID=America/Detroit:20250816T210000
DTSTAMP:20260424T115552
CREATED:20250815T110403Z
LAST-MODIFIED:20250815T110849Z
UID:47804-1755331200-1755378000@www.smsbacademy.com
SUMMARY:League Wide Scrimmage
DESCRIPTION:
URL:https://www.smsbacademy.com/event/league-wide-scrimmage/
CATEGORIES:Special Events
ATTACH;FMTTYPE=image/jpeg:https://www.smsbacademy.com/wp-content/uploads/2025/08/League-scrimmage-2025.jpg
END:VEVENT
BEGIN:VEVENT
DTSTART;TZID=America/Detroit:20250814T110000
DTEND;TZID=America/Detroit:20250814T210000
DTSTAMP:20260424T115552
CREATED:20250617T130156Z
LAST-MODIFIED:20250617T130156Z
UID:47359-1755169200-1755205200@www.smsbacademy.com
SUMMARY:Cheer Showcase
DESCRIPTION:
URL:https://www.smsbacademy.com/event/cheer-showcase/
CATEGORIES:Special Events
ATTACH;FMTTYPE=image/jpeg:https://www.smsbacademy.com/wp-content/uploads/2025/06/cheershowcase2025.jpg
END:VEVENT
BEGIN:VEVENT
DTSTART;TZID=America/Detroit:20250810T170000
DTEND;TZID=America/Detroit:20250810T210000
DTSTAMP:20260424T115552
CREATED:20250611T020530Z
LAST-MODIFIED:20250815T105926Z
UID:47317-1754845200-1754859600@www.smsbacademy.com
SUMMARY:Seas the Moment
DESCRIPTION:
URL:https://www.smsbacademy.com/event/seas-the-moment/
CATEGORIES:Special Events
ATTACH;FMTTYPE=image/jpeg:https://www.smsbacademy.com/wp-content/uploads/2025/06/summeratsea.jpg
END:VEVENT
BEGIN:VEVENT
DTSTART;TZID=America/Detroit:20250805T150000
DTEND;TZID=America/Detroit:20250805T190000
DTSTAMP:20260424T115552
CREATED:20250805T095213Z
LAST-MODIFIED:20250820T100039Z
UID:47813-1754406000-1754420400@www.smsbacademy.com
SUMMARY:National Night Out
DESCRIPTION:
URL:https://www.smsbacademy.com/event/national-night-out/
CATEGORIES:Special Events
ATTACH;FMTTYPE=image/jpeg:https://www.smsbacademy.com/wp-content/uploads/2025/08/080525.jpg
END:VEVENT
BEGIN:VEVENT
DTSTART;TZID=America/Detroit:20250625T080000
DTEND;TZID=America/Detroit:20250626T200000
DTSTAMP:20260424T115552
CREATED:20250520T161447Z
LAST-MODIFIED:20250627T092645Z
UID:46950-1750838400-1750968000@www.smsbacademy.com
SUMMARY:7th Annual High School 7v7 Showcase
DESCRIPTION:Sound Mind Sound Body 7th Annual High School 7v7 Showcase Returns to Wayne State University\nDetroit\, MI – Sound Mind Sound Body (SMSB) proudly announces the 7th Annual High School 7v7 Showcase\, scheduled for June 25-26\, 2025\, at Wayne State University\, 42 W. Warren\, Detroit\, MI 48202. \nPowered by Battle\, this premier event brings together top high school football programs from Michigan and neighboring states for two days of elite 7-on-7 action. The showcase is designed to highlight the region’s most talented student-athletes and provide them with critical exposure to college coaches and recruiters. \nEvent Details \n\n\n\nDates: June 25-26\, 2025\nLocation: Wayne State University\, 42 W. Warren\, Detroit\, MI 48202\nAdmission: $11 for a single-day pass\nClick Here for Day 1 Ticket Details \nClick Here for Day 2 Ticket Details \n\n\n\n\n\n\nHistory of the SMSB High School 7v7 Showcase at Wayne State University \nThe SMSB High School 7v7 Showcase at Wayne State University has become a cornerstone event in Michigan’s high school football landscape. Since its inception\, SMSB has used the 7v7 format to provide a platform for student-athletes to showcase their skills\, gain exposure to college recruiters\, and compete against the region’s best talent. \nOrigins and Growth\nFounded in 2004\, SMSB’s mission is to increase the number of football student-athletes graduating high school and earning college scholarships\, particularly in underserved communities. By combining academics\, athletics\, and life skills\, SMSB has certified over 13\,000 students and helped more than 1\,000 earn college scholarships. The High School 7v7 Showcase at Wayne State University was launched as part of this mission\, offering a non-contact football format that emphasizes passing\, route running\, and defensive coverage-allowing quarterbacks\, receivers\, and defensive backs to demonstrate their abilities in a fast-paced\, competitive environment. \nWayne State University as the Host\nWayne State University in Detroit has served as the primary venue for the SMSB 7v7 Showcase\, providing a central location and collegiate atmosphere. Over the years\, the showcase has drawn more than 30 high schools annually\, including defending state champions and powerhouse programs. Many participants hold Division I offers and national rankings. \nNotable Highlights \n\nThe showcase has consistently attracted elite talent\, such as Bryce Underwood (No. 1 overall player in America)\, Jeremiah Beasley (top linebacker)\, and other highly ranked prospects from schools like Belleville\, King\, Cass Tech\, and Warren De La Salle.\nThe event has grown in scale\, with over 32 schools participating in recent years and more than 80 players with Division I offers attending the fifth annual showcase.\nThe 7v7 format has proven to be a valuable evaluation tool for college coaches\, who regularly attend to scout talent and connect with student-athletes.\n\nLegacy and Impact\nThe SMSB 7v7 Showcase at Wayne State has become a launchpad for college recruitment and athletic development. Beyond competition\, it reinforces SMSB’s holistic approach\, blending athletic excellence with academic achievement and social responsibility. The event stands as a testament to SMSB’s ongoing commitment to empowering young athletes and creating pathways to higher education and lifelong success. \n<Day 1: Register Now>\n<Day 2: Register Now>
URL:https://www.smsbacademy.com/event/7th-annual-high-school-7v7-showcase/
CATEGORIES:Special Events
ATTACH;FMTTYPE=image/jpeg:https://www.smsbacademy.com/wp-content/uploads/2025/05/High-School-7v7-Showcase-1.jpg
END:VEVENT
BEGIN:VEVENT
DTSTART;TZID=America/Detroit:20250611T200000
DTEND;TZID=America/Detroit:20250611T230000
DTSTAMP:20260424T115552
CREATED:20250505T115702Z
LAST-MODIFIED:20250611T021450Z
UID:47321-1749672000-1749682800@www.smsbacademy.com
SUMMARY:Southeast Showcase Coach Mixer
DESCRIPTION:
URL:https://www.smsbacademy.com/event/southeast-showcase-coach-mixer/
CATEGORIES:Special Events
ATTACH;FMTTYPE=image/jpeg:https://www.smsbacademy.com/wp-content/uploads/2025/05/Southeast-Showcase-Coach-Mixer.jpg
END:VEVENT
BEGIN:VEVENT
DTSTART;TZID=America/Detroit:20250611T080000
DTEND;TZID=America/Detroit:20250612T200000
DTSTAMP:20260424T115552
CREATED:20250505T125732Z
LAST-MODIFIED:20250525T115533Z
UID:46857-1749628800-1749758400@www.smsbacademy.com
SUMMARY:Tennessee State University and Sound Mind Sound Body Foundation Present Southeast Showcase Powered by Adidas
DESCRIPTION:Nashville\, TN – Tennessee State University (TSU)\, in conjunction with the renowned Sound Mind Sound Body (SMSB) Foundation\, proudly announces the Southeast Showcase powered by Adidas\, set for June 11–12\, 2025\, on the TSU campus. This premier event will unite over 1\,000 of the nation’s top high school and college transfer football athletes for two days of elite competition\, exposure\, and education\, with more than 50 college programs in attendance. \nThe SMSB Showcase has a proven track record of attracting NFL-caliber talent. Past attendees include NFL standouts such as Sauce Gardner (New York Jets)\, Amon-Ra St. Brown (Detroit Lions)\, and Will Johnson (Arizona Cardinals). Their journeys from SMSB camps to the professional stage serve as powerful inspiration for this year’s participants\, highlighting the Showcase’s status as a launching pad for future stars. \n\nOver 50 Colleges Represented: Coaches from Power Five\, HBCU\, and Group of Five programs-including LSU\, Auburn\, Louisville\, North Carolina\, Ole Miss\, Maryland\, and more-will be on site to evaluate and recruit talent.\nCutting-Edge Testing and Drills: Athletes will participate in NFL-style combine testing\, position-specific drills\, and competitive 1-on-1s\, all under the watchful eyes of college scouts and recruiters.\nRecruiting education: Parents and athletes can attend seminars on college recruiting\, academic readiness\, and NIL (Name\, Image\, Likeness) opportunities.\nAdidas Partnership: Registered participants will receive exclusive Adidas Adizero Electric II Exotic Speed cleats.\n\nEvent Details \n\nDates: June 11–12\, 2025\nLocation: Tennessee State University\, Nashville\, TN\nEligibility: Open to all athletes entering grades 9–12 and college transfers\nRegistration: Limited spots available; early registration encouraged\n\nAbout Tennessee State University \nTennessee State University is a leader in athletic and academic excellence\, committed to fostering the next generation of leaders through opportunity\, mentorship\, and community engagement. \nAbout Sound Mind Sound Body Foundation \nThe SMSB Foundation is America’s premier student-athlete development program\, combining athletic training\, academic support\, and life skills to prepare young people for college and beyond. \n<Register Now>
URL:https://www.smsbacademy.com/event/tsu-football/
CATEGORIES:Special Events
ATTACH;FMTTYPE=image/jpeg:https://www.smsbacademy.com/wp-content/uploads/2025/05/Southeast-Showcase-TSU-Blog-Photo-copy.jpg
END:VEVENT
BEGIN:VEVENT
DTSTART;TZID=America/Detroit:20250607T193000
DTEND;TZID=America/Detroit:20250607T230000
DTSTAMP:20260424T115552
CREATED:20250505T004335Z
LAST-MODIFIED:20250611T022644Z
UID:47330-1749324600-1749337200@www.smsbacademy.com
SUMMARY:HBCU Meet & Greet in VA
DESCRIPTION:
URL:https://www.smsbacademy.com/event/hbcu-meet-greet-in-va/
CATEGORIES:Special Events
ATTACH;FMTTYPE=image/jpeg:https://www.smsbacademy.com/wp-content/uploads/2025/05/HBCU-Meet-Greet-in-VA.jpg
END:VEVENT
BEGIN:VEVENT
DTSTART;TZID=America/Detroit:20250607T080000
DTEND;TZID=America/Detroit:20250608T200000
DTSTAMP:20260424T115552
CREATED:20250505T005329Z
LAST-MODIFIED:20250521T203638Z
UID:46854-1749283200-1749412800@www.smsbacademy.com
SUMMARY:Hampton Football
DESCRIPTION:Register Now
URL:https://www.smsbacademy.com/event/hampton-football/
CATEGORIES:Special Events
ATTACH;FMTTYPE=image/jpeg:https://www.smsbacademy.com/wp-content/uploads/2025/05/HU.jpg
END:VEVENT
BEGIN:VEVENT
DTSTART;TZID=America/Detroit:20250605T080000
DTEND;TZID=America/Detroit:20250605T200000
DTSTAMP:20260424T115552
CREATED:20250504T004718Z
LAST-MODIFIED:20250521T203251Z
UID:46851-1749110400-1749153600@www.smsbacademy.com
SUMMARY:Down South Showcase
DESCRIPTION:Register Now
URL:https://www.smsbacademy.com/event/down-south-showcase/
CATEGORIES:Special Events
ATTACH;FMTTYPE=image/jpeg:https://www.smsbacademy.com/wp-content/uploads/2025/05/MegaCamp2060525.jpg
END:VEVENT
BEGIN:VEVENT
DTSTART;TZID=America/Detroit:20250531T193000
DTEND;TZID=America/Detroit:20250531T230000
DTSTAMP:20260424T115552
CREATED:20250502T212042Z
LAST-MODIFIED:20250611T022213Z
UID:47326-1748719800-1748732400@www.smsbacademy.com
SUMMARY:HBCU Meet & Greet in MI
DESCRIPTION:
URL:https://www.smsbacademy.com/event/hbcu-meet-greet-in-mi/
CATEGORIES:Special Events
ATTACH;FMTTYPE=image/jpeg:https://www.smsbacademy.com/wp-content/uploads/2025/05/HBCU-Meet-and-Greet-2025-MI.jpg
END:VEVENT
BEGIN:VEVENT
DTSTART;TZID=America/Detroit:20250531T000000
DTEND;TZID=America/Detroit:20250601T235900
DTSTAMP:20260424T115552
CREATED:20250502T223911Z
LAST-MODIFIED:20250525T121405Z
UID:46845-1748649600-1748822340@www.smsbacademy.com
SUMMARY:2025 National College Showcase at Wayne State University
DESCRIPTION:The 2025 National College Showcase at Wayne State University \nDetroit\, MI – The 2025 National College Showcase\, hosted by Coach Tyrone Wheatley—Head Coach at Wayne State University—is happening next week. The event is powered by Adidas and promises to be an unmissable opportunity for aspiring college football athletes. \nSpecial Guest:\nNational Champion Coach Tony Annese\, Ferris State University \nFeatured Speakers: \n\nCoach Jonathan Smith\, Michigan State University\nCoach Sherrone Moore\, University of Michigan\n\nHead Coaches in Attendance: \n\nJason Candle\, University of Toledo\nLance Taylor\, Western Michigan University\nChris Creighton\, Eastern Michigan University\nMatt Drinkall\, Central Michigan University\nCoach Barlow\, Tennessee State University\n\nThe National College Showcase is the premier college football evaluation camp in the country\, taking place May 31 – June 1\, 2025\, at the Wayne State University Field House in Detroit. Over 80 college programs\, including HBCU’s\, top NCAA Division I\, II\, and III schools\, will be represented\, offering student-athletes a unique platform to demonstrate their skills and connect directly with college coaches. \nEvent Highlights \n\nNFL-Style Combine Testing:\nAthletes will participate in professional-level drills\, including the 40-yard dash\, shuttle run\, vertical jump\, and more\, using precision electronic equipment for accurate results.\nRecruiting Seminars & Parent Sessions:\nParents can attend seminars covering the recruiting process\, Name-Image-Likeness (NIL) opportunities\, and participate in Q&A sessions with college coaches and recruiting experts.\nAdidas Cleats for All Participants:\nEach athlete completing the combine will receive a complimentary pair of Adidas Adizero cleats.\n\nShowcase Legacy \nThe SMSB Showcase has a proven record of attracting NFL-caliber talent. Past attendees include NFL standouts such as Sauce Gardner (New York Jets)\, Amon-Ra St. Brown (Detroit Lions)\, and Will Johnson (Arizona Cardinals). Their journeys from SMSB camps to the professional stage inspire this year’s participants\, underscoring the Showcase’s reputation as a launchpad for future stars. \nEvent Details \n\nDates: Saturday\, May 31 – Sunday\, June 1\, 2025\nLocation: Wayne State University Field House\, 1290 W Warren Ave\, Detroit\, MI 48201\nEligibility: Open to all athletes entering 9th grade through 12th grade students\, and college transfers.\nRegistration: Limited spots available; early registration is encouraged\n\nThe National College Showcase stands alone as the only camp in the country to combine elite athletic evaluation\, direct college coach interaction\, and comprehensive recruiting education for both athletes and parents. Sessions are filling quickly—register now to secure your spot. \n<Register Now>
URL:https://www.smsbacademy.com/event/national-college-showcase/
CATEGORIES:Special Events
ATTACH;FMTTYPE=image/jpeg:https://www.smsbacademy.com/wp-content/uploads/2025/05/National-College-Showcase-Blog-Photo-copy.jpg
END:VEVENT
BEGIN:VEVENT
DTSTART;TZID=America/Detroit:20250517T090000
DTEND;TZID=America/Detroit:20250517T150000
DTSTAMP:20260424T115552
CREATED:20250425T230811Z
LAST-MODIFIED:20250505T231054Z
UID:46848-1747472400-1747494000@www.smsbacademy.com
SUMMARY:Future MVPs
DESCRIPTION:
URL:https://www.smsbacademy.com/event/future-mvps/
CATEGORIES:Special Events
ATTACH;FMTTYPE=image/jpeg:https://www.smsbacademy.com/wp-content/uploads/2025/04/mvp-051725.jpg
END:VEVENT
BEGIN:VEVENT
DTSTART;TZID=America/Detroit:20250329T080000
DTEND;TZID=America/Detroit:20250329T200000
DTSTAMP:20260424T115552
CREATED:20250205T232935Z
LAST-MODIFIED:20250505T231432Z
UID:46842-1743235200-1743278400@www.smsbacademy.com
SUMMARY:Lineman Showcase
DESCRIPTION:
URL:https://www.smsbacademy.com/event/lineman-showcase/
CATEGORIES:Special Events
ATTACH;FMTTYPE=image/jpeg:https://www.smsbacademy.com/wp-content/uploads/2025/03/Showcase-032925.jpg
END:VEVENT
BEGIN:VEVENT
DTSTART;VALUE=DATE:20250117
DTEND;VALUE=DATE:20260413
DTSTAMP:20260424T115552
CREATED:20251214T172307Z
LAST-MODIFIED:20251214T172307Z
UID:48110-1737072000-1776038399@www.smsbacademy.com
SUMMARY:MAX EX 7v7 Tour
DESCRIPTION:
URL:https://www.smsbacademy.com/event/max-ex-7v7-tour/
CATEGORIES:Special Events
ATTACH;FMTTYPE=image/jpeg:https://www.smsbacademy.com/wp-content/uploads/2025/12/121425Max-Ex-7v7-Tour-2025.jpg
END:VEVENT
END:VCALENDAR